BEGIN:VCALENDAR
VERSION:2.0
PRODID:-//Gemeinde Delingsdorf//Stecki-CMS//DE
CALSCALE:GREGORIAN
METHOD:PUBLISH
BEGIN:VEVENT
UID:termin-1595@delingsdorf.de
DTSTART;VALUE=DATE:20111020
STATUS:CONFIRMED
LOCATION:Bargteheide\, Kleines Theater Bargteheide
SUMMARY:Gemeinde: Seniorenkino
DESCRIPTION:
PRIORITY:3
END:VEVENT
END:VCALENDAR
