BEGIN:VCALENDAR
VERSION:2.0
PRODID:-//Gemeinde Delingsdorf//Stecki-CMS//DE
CALSCALE:GREGORIAN
METHOD:PUBLISH
BEGIN:VEVENT
UID:termin-178@delingsdorf.de
DTSTART:20050212T170000
DURATION:PT2H
STATUS:CONFIRMED
LOCATION:Delingsdorf\, Mehrzweckhaus
SUMMARY:SPD Delingsdorf: Skat und Kniffeln
DESCRIPTION:
PRIORITY:3
END:VEVENT
END:VCALENDAR
