BEGIN:VCALENDAR
VERSION:2.0
PRODID:-//Gemeinde Delingsdorf//Stecki-CMS//DE
CALSCALE:GREGORIAN
METHOD:PUBLISH
BEGIN:VEVENT
UID:termin-301@delingsdorf.de
DTSTART;VALUE=DATE:20051113
STATUS:CONFIRMED
LOCATION:
SUMMARY:KV Senioren: Hochseeangeln
DESCRIPTION:
PRIORITY:3
END:VEVENT
END:VCALENDAR
