BEGIN:VCALENDAR
VERSION:2.0
PRODID:-//Gemeinde Delingsdorf//Stecki-CMS//DE
CALSCALE:GREGORIAN
METHOD:PUBLISH
BEGIN:VEVENT
UID:termin-32@delingsdorf.de
DTSTART:20041031T170000
DURATION:PT2H
STATUS:CONFIRMED
LOCATION:Delingsdorf\, Mehrzweckhaus
SUMMARY:Kulturverein e.V. (KV): Halloween-Fest
DESCRIPTION:[THUMB src="halloween.jpg" align="right" /]\n\nKinder ab 5 Jahren gehen in kleinen Gruppen (5-6 Kinder) mit je einem Erwachsenen verkleidet durch das Dorf und klingeln an den Haustüren\, um nach Süßigkeiten zu fragen. Anschließend treffen sich alle wieder im Mehrzweckhaus am großen Buffet. Es macht allen großen Spaß. Im Jahr 2003 haben 75 Kinder an der Halloweenparty teilgenommen.
PRIORITY:3
END:VEVENT
END:VCALENDAR
