BEGIN:VCALENDAR
VERSION:2.0
PRODID:-//Gemeinde Delingsdorf//Stecki-CMS//DE
CALSCALE:GREGORIAN
METHOD:PUBLISH
BEGIN:VEVENT
UID:termin-444@delingsdorf.de
DTSTART:20061126T150000
DURATION:PT2H
STATUS:CONFIRMED
LOCATION:Bargteheide\, Johann-Gutenberg-Schule
SUMMARY:Delingsdorfer Sportverein (DSV): Schauturnen
DESCRIPTION:
PRIORITY:3
END:VEVENT
END:VCALENDAR
