BEGIN:VCALENDAR
VERSION:2.0
PRODID:-//Gemeinde Delingsdorf//Stecki-CMS//DE
CALSCALE:GREGORIAN
METHOD:PUBLISH
BEGIN:VEVENT
UID:termin-464@delingsdorf.de
DTSTART:20060314T193000
DURATION:PT2H
STATUS:CONFIRMED
LOCATION:Delingsdorf\, Bürgerhaus
SUMMARY:Gemeinde: Öffentliche Sitzung des Finanz- und Gebäudeausschusses
DESCRIPTION:Tagesordnung\n\n1. Niederschrift der Sitzung vom 19.01.2006 – öffentlicher Teil –\n\n2. Mehrzweckhaus Dachsanierung\; hier: Sanierungskonzept\n\n3. Mehrzweckhaus\; hier: Heizungsanlage\n\n4. Brandschutzkonzept\n\n5. Sperrmüllabfuhr\n\n6. Anfragen und Mitteilungen\n\nnicht öffentlich\n\n7. Niederschrift der Sitzung vom 19.01.2006 – nicht öffentlicher Teil –\n\n8. Personalangelegenheiten\n\n9. Anfragen und Mitteilungen
PRIORITY:3
END:VEVENT
END:VCALENDAR
