BEGIN:VCALENDAR
VERSION:2.0
PRODID:-//Gemeinde Delingsdorf//Stecki-CMS//DE
CALSCALE:GREGORIAN
METHOD:PUBLISH
BEGIN:VEVENT
UID:termin-496@delingsdorf.de
DTSTART:20060201T200000
DURATION:PT2H
STATUS:CONFIRMED
LOCATION:Delingsdorf\, Jugendhaus
SUMMARY:Kulturverein e.V. (KV): Helfertreffen "Bastelkurse ab 10 Jahren"
DESCRIPTION:Jeder der bei Planung der neuen Bastelkurse für die Kinder ab 10 Jahren mitmachen möchte\, ist im Vereinshaus des Kulturvereins herzlich Willkommen.
PRIORITY:3
END:VEVENT
END:VCALENDAR
