BEGIN:VCALENDAR
VERSION:2.0
PRODID:-//Gemeinde Delingsdorf//Stecki-CMS//DE
CALSCALE:GREGORIAN
METHOD:PUBLISH
BEGIN:VEVENT
UID:termin-5304@delingsdorf.de
DTSTART;VALUE=DATE:20200422
STATUS:CANCELLED
LOCATION:
SUMMARY:GV_2018-2023: Gemeindevertretung
DESCRIPTION:
PRIORITY:3
END:VEVENT
END:VCALENDAR
