BEGIN:VCALENDAR
VERSION:2.0
PRODID:-//Gemeinde Delingsdorf//Stecki-CMS//DE
CALSCALE:GREGORIAN
METHOD:PUBLISH
BEGIN:VEVENT
UID:termin-5663@delingsdorf.de
DTSTART;VALUE=DATE:20251001
STATUS:CONFIRMED
LOCATION:Hammoor
SUMMARY:Amtsausschuß (AA): Amtsausschuß
DESCRIPTION:
PRIORITY:3
END:VEVENT
END:VCALENDAR
