BEGIN:VCALENDAR
VERSION:2.0
PRODID:-//Gemeinde Delingsdorf//Stecki-CMS//DE
CALSCALE:GREGORIAN
METHOD:PUBLISH
BEGIN:VEVENT
UID:termin-808@delingsdorf.de
DTSTART:20071217T193000
DURATION:PT2H
STATUS:CONFIRMED
LOCATION:Tremsbüttel\, Gemeinschaftshaus
SUMMARY:CDU Delingsdorf: Nominierung eines Kreistagskandidaten
DESCRIPTION:für den Kreistags-Wahlkreis 11
PRIORITY:3
END:VEVENT
END:VCALENDAR
