BEGIN:VCALENDAR
VERSION:2.0
PRODID:-//Gemeinde Delingsdorf//Stecki-CMS//DE
CALSCALE:GREGORIAN
METHOD:PUBLISH
BEGIN:VEVENT
UID:termin-820@delingsdorf.de
DTSTART;VALUE=DATE:20080328
STATUS:CONFIRMED
LOCATION:Delingsdorf\, Mehrzweckhaus
SUMMARY:DSV-Jugend: Workshop Dirty-Dancing
DESCRIPTION:weitere Infos folgen.
PRIORITY:3
END:VEVENT
END:VCALENDAR
